BEGIN:VCALENDAR
VERSION:2.0
PRODID:-//Property Etcetera - ECPv6.15.11//NONSGML v1.0//EN
CALSCALE:GREGORIAN
METHOD:PUBLISH
X-WR-CALNAME:Property Etcetera
X-ORIGINAL-URL:https://propertyetcetera.co.ke
X-WR-CALDESC:Events for Property Etcetera
REFRESH-INTERVAL;VALUE=DURATION:PT1H
X-Robots-Tag:noindex
X-PUBLISHED-TTL:PT1H
BEGIN:VTIMEZONE
TZID:Africa/Nairobi
BEGIN:STANDARD
TZOFFSETFROM:+0300
TZOFFSETTO:+0300
TZNAME:EAT
DTSTART:20250101T000000
END:STANDARD
END:VTIMEZONE
BEGIN:VEVENT
DTSTART;TZID=Africa/Nairobi:20261205T080000
DTEND;TZID=Africa/Nairobi:20261206T180000
DTSTAMP:20260419T193358
CREATED:20251021T023851Z
LAST-MODIFIED:20251021T023851Z
UID:10000004-1796457600-1796580000@propertyetcetera.co.ke
SUMMARY:Coast Circuit
DESCRIPTION:Come December 2026\, the PERTE Coast Chapter invites you to wrap up the year with a sun-soaked journey along Kenya’s stunning coastline. The Coast Circuit is a curated property road trip through Voi\, Mombasa\, and the South Coast\, blending investment insight with coastal charm. \nFrom inland growth hubs to beachfront developments and tourism-driven real estate\, this trip offers a front-row view of the region’s evolving property landscape. Whether you’re looking to invest\, develop\, or simply explore\, this experience delivers: \n\n Guided tours of residential\, commercial\, and hospitality properties\n Insights into coastal zoning\, infrastructure\, and tourism-linked opportunities\n Direct engagement with developers\, agents\, and county planners\n Scenic travel\, curated stops\, and networking with fellow property enthusiasts\n\nDate: December 2026 \nLimited seats available — book early to secure your spot! \nExplore the coast. Invest in the future. End the year with vision.
URL:https://propertyetcetera.co.ke/event/coast-circuit/
LOCATION:Coast Circuit\, Coast\, Kenya
END:VEVENT
END:VCALENDAR