BEGIN:VCALENDAR
VERSION:2.0
PRODID:-//Property Etcetera - ECPv6.15.11//NONSGML v1.0//EN
CALSCALE:GREGORIAN
METHOD:PUBLISH
X-WR-CALNAME:Property Etcetera
X-ORIGINAL-URL:https://propertyetcetera.co.ke
X-WR-CALDESC:Events for Property Etcetera
REFRESH-INTERVAL;VALUE=DURATION:PT1H
X-Robots-Tag:noindex
X-PUBLISHED-TTL:PT1H
BEGIN:VTIMEZONE
TZID:Africa/Nairobi
BEGIN:STANDARD
TZOFFSETFROM:+0300
TZOFFSETTO:+0300
TZNAME:EAT
DTSTART:20250101T000000
END:STANDARD
END:VTIMEZONE
BEGIN:VEVENT
DTSTART;TZID=Africa/Nairobi:20260307T080000
DTEND;TZID=Africa/Nairobi:20260308T180000
DTSTAMP:20260419T181146
CREATED:20251020T065520Z
LAST-MODIFIED:20251108T035117Z
UID:10000001-1772870400-1772992800@propertyetcetera.co.ke
SUMMARY:The Central Circuit
DESCRIPTION:Ready to explore Kenya’s most promising property hotspots? PERTE invites you to embark on The Central Circuit — a curated road trip through the thriving counties of Kiambu\, Murang’a\, and Laikipia. \nThis immersive experience is designed for investors\, developers\, and dream-home seekers looking to discover real estate gems across Central Kenya. From lush countryside plots to emerging urban developments\, The Central Circuit offers exclusive access to: \n\n Prime residential and commercial properties\n Scenic landscapes and strategic investment zones\n On-site interactions with local agents\, developers\, and community leaders\n Guided tours\, expert insights\, and networking opportunities\n\nExhibition Venue: CK Square\, Two Rivers Mall. Located in one of Africa’s busiest shopping destinations\, CK Square offers unmatched visibility and foot traffic. Two Rivers Mall attracts over 50\,000 visitors every weekend\, drawn by its vibrant mix of retail\, dining\, and recreational amenities — making it the perfect launchpad for showcasing property opportunities and engaging with a diverse audience. \nDate: 07/03/2026 – 08/03/2026 \nLet’s hit the road and unlock the potential of Central Kenya — one county at a time.
URL:https://propertyetcetera.co.ke/event/the-central-circuit/
LOCATION:Coast
END:VEVENT
END:VCALENDAR