BEGIN:VCALENDAR
VERSION:2.0
PRODID:-//Property Etcetera - ECPv6.15.11//NONSGML v1.0//EN
CALSCALE:GREGORIAN
METHOD:PUBLISH
X-WR-CALNAME:Property Etcetera
X-ORIGINAL-URL:https://propertyetcetera.co.ke
X-WR-CALDESC:Events for Property Etcetera
REFRESH-INTERVAL;VALUE=DURATION:PT1H
X-Robots-Tag:noindex
X-PUBLISHED-TTL:PT1H
BEGIN:VTIMEZONE
TZID:Africa/Nairobi
BEGIN:STANDARD
TZOFFSETFROM:+0300
TZOFFSETTO:+0300
TZNAME:EAT
DTSTART:20250101T000000
END:STANDARD
END:VTIMEZONE
BEGIN:VEVENT
DTSTART;TZID=Africa/Nairobi:20260808T080000
DTEND;TZID=Africa/Nairobi:20260809T180000
DTSTAMP:20260419T152041
CREATED:20251021T022801Z
LAST-MODIFIED:20251021T022801Z
UID:10000003-1786176000-1786298400@propertyetcetera.co.ke
SUMMARY:Nyanza Circuit
DESCRIPTION:August 2026 marks a new chapter in real estate exploration as the PERTE Nyanza Chapter rolls out The Nyanza Circuit — a captivating property road trip through the culturally rich and rapidly growing counties of Kisumu\, Homa Bay\, and Kisii. \nFrom lakeside developments along the shimmering shores of Lake Victoria to the green highlands of Kisii and the emerging investment corridors of Homa Bay\, this journey offers a front-row seat to the future of real estate in Western Kenya. \nWhat to expect: \n\n Site visits to residential\, commercial\, and agribusiness properties\n Insights into infrastructure projects\, zoning trends\, and regional growth potential\n Meet-and-greets with local developers\, landowners\, and county officials\n Comfortable travel\, curated experiences\, and a network of like-minded investors\n\nWhether you’re scouting for your next big opportunity or simply exploring the possibilities\, The Nyanza Circuit is your gateway to informed\, inspired investment. \nDate: 8th August 2026 \nReserve your seat today — limited slots available! \nDiscover the pulse of Nyanza. Invest where the future is unfolding.
URL:https://propertyetcetera.co.ke/event/nyanza-circuit/
LOCATION:Nyanza Circuit\, Nyanza\, Kenya
END:VEVENT
END:VCALENDAR